BEGIN:VCALENDAR
VERSION:2.0
PRODID:-//G20 South Africa - ECPv6.8.2.1//NONSGML v1.0//EN
CALSCALE:GREGORIAN
METHOD:PUBLISH
X-ORIGINAL-URL:https://admwebdev.eservices.gov.za/v2
X-WR-CALDESC:Events for G20 South Africa
REFRESH-INTERVAL;VALUE=DURATION:PT1H
X-Robots-Tag:noindex
X-PUBLISHED-TTL:PT1H
BEGIN:VTIMEZONE
TZID:Africa/Johannesburg
BEGIN:STANDARD
TZOFFSETFROM:+0200
TZOFFSETTO:+0200
TZNAME:SAST
DTSTART:20250101T000000
END:STANDARD
END:VTIMEZONE
BEGIN:VEVENT
DTSTART;VALUE=DATE:20250912
DTEND;VALUE=DATE:20250915
DTSTAMP:20260421T144357
CREATED:20250514T095103Z
LAST-MODIFIED:20250514T095103Z
UID:10000372-1757635200-1757894399@admwebdev.eservices.gov.za
SUMMARY:U20 Joburg Mayoral Summit
DESCRIPTION:
URL:https://admwebdev.eservices.gov.za/v2/event/u20-joburg-mayoral-summit/
LOCATION:TBC
CATEGORIES:Engagement Group
END:VEVENT
BEGIN:VEVENT
DTSTART;VALUE=DATE:20250818
DTEND;VALUE=DATE:20250823
DTSTAMP:20260421T144357
CREATED:20250514T090856Z
LAST-MODIFIED:20250514T090856Z
UID:10000369-1755475200-1755907199@admwebdev.eservices.gov.za
SUMMARY:Y20 Summit
DESCRIPTION:
URL:https://admwebdev.eservices.gov.za/v2/event/y20-summit/
LOCATION:TBC
CATEGORIES:Engagement Group
END:VEVENT
BEGIN:VEVENT
DTSTART;VALUE=DATE:20250806
DTEND;VALUE=DATE:20250808
DTSTAMP:20260421T144357
CREATED:20250514T094323Z
LAST-MODIFIED:20250514T094742Z
UID:10000370-1754438400-1754611199@admwebdev.eservices.gov.za
SUMMARY:P20: Meeting of Women Parliamentarians
DESCRIPTION:
URL:https://admwebdev.eservices.gov.za/v2/event/p20-meeting-of-women-parliamentarians-2/
LOCATION:TBC
CATEGORIES:Engagement Group
END:VEVENT
BEGIN:VEVENT
DTSTART;VALUE=DATE:20250728
DTEND;VALUE=DATE:20250730
DTSTAMP:20260421T144357
CREATED:20250514T090025Z
LAST-MODIFIED:20250514T090025Z
UID:10000367-1753660800-1753833599@admwebdev.eservices.gov.za
SUMMARY:L20 Summit
DESCRIPTION:
URL:https://admwebdev.eservices.gov.za/v2/event/l20-summit/
LOCATION:TBC
CATEGORIES:Engagement Group
END:VEVENT
BEGIN:VEVENT
DTSTART;VALUE=DATE:20250721
DTEND;VALUE=DATE:20250724
DTSTAMP:20260421T144357
CREATED:20240912T091510Z
LAST-MODIFIED:20250414T140643Z
UID:10000094-1753056000-1753315199@admwebdev.eservices.gov.za
SUMMARY:Fourth Development Working Group Meeting
DESCRIPTION:
URL:https://admwebdev.eservices.gov.za/v2/event/4th-development-wg-meeting/
LOCATION:TBC
CATEGORIES:ST
END:VEVENT
BEGIN:VEVENT
DTSTART;VALUE=DATE:20250615
DTEND;VALUE=DATE:20250619
DTSTAMP:20260421T144357
CREATED:20250514T085123Z
LAST-MODIFIED:20250514T085123Z
UID:10000363-1749945600-1750291199@admwebdev.eservices.gov.za
SUMMARY:Y20 Pre-Summit
DESCRIPTION:
URL:https://admwebdev.eservices.gov.za/v2/event/y20-pre-summit/
LOCATION:TBC
CATEGORIES:Engagement Group
END:VEVENT
BEGIN:VEVENT
DTSTART;VALUE=DATE:20250528
DTEND;VALUE=DATE:20250531
DTSTAMP:20260421T144357
CREATED:20250514T084615Z
LAST-MODIFIED:20250514T084615Z
UID:10000361-1748390400-1748649599@admwebdev.eservices.gov.za
SUMMARY:Ocean20SA Stakeholder Meeting and Development of Outputs
DESCRIPTION:
URL:https://admwebdev.eservices.gov.za/v2/event/ocean20sa-stakeholder-meeting-and-development-of-outputs/
LOCATION:TBC
CATEGORIES:Engagement Group
END:VEVENT
END:VCALENDAR