BEGIN:VCALENDAR
VERSION:2.0
PRODID:-//G20 South Africa - ECPv6.8.2.1//NONSGML v1.0//EN
CALSCALE:GREGORIAN
METHOD:PUBLISH
X-ORIGINAL-URL:https://admwebdev.eservices.gov.za/v2
X-WR-CALDESC:Events for G20 South Africa
REFRESH-INTERVAL;VALUE=DURATION:PT1H
X-Robots-Tag:noindex
X-PUBLISHED-TTL:PT1H
BEGIN:VTIMEZONE
TZID:Africa/Johannesburg
BEGIN:STANDARD
TZOFFSETFROM:+0200
TZOFFSETTO:+0200
TZNAME:SAST
DTSTART:20250101T000000
END:STANDARD
END:VTIMEZONE
BEGIN:VEVENT
DTSTART;TZID=Africa/Johannesburg:20250830T080000
DTEND;TZID=Africa/Johannesburg:20250831T170000
DTSTAMP:20260421T171315
CREATED:20250828T125015Z
LAST-MODIFIED:20250830T050648Z
UID:10000383-1756540800-1756659600@admwebdev.eservices.gov.za
SUMMARY:Media Accreditation Test 3
DESCRIPTION:
URL:https://admwebdev.eservices.gov.za/v2/event/media-accreditation-test-3/
LOCATION:Sandton Convention Centre\, Gauteng\, Sandton\, Johannesburg\, Gauteng\, 2000\, South Africa
CATEGORIES:FT,ST
END:VEVENT
BEGIN:VEVENT
DTSTART;TZID=Africa/Johannesburg:20250828T070000
DTEND;TZID=Africa/Johannesburg:20250831T190000
DTSTAMP:20260421T171315
CREATED:20250828T122051Z
LAST-MODIFIED:20250828T122548Z
UID:10000382-1756364400-1756666800@admwebdev.eservices.gov.za
SUMMARY:Test Accreditation 2
DESCRIPTION:
URL:https://admwebdev.eservices.gov.za/v2/event/test-accreditation-2/
CATEGORIES:FT,ST
END:VEVENT
BEGIN:VEVENT
DTSTART;TZID=Africa/Johannesburg:20250827T080000
DTEND;TZID=Africa/Johannesburg:20250831T170000
DTSTAMP:20260421T171315
CREATED:20250827T112324Z
LAST-MODIFIED:20250827T113111Z
UID:10000381-1756281600-1756659600@admwebdev.eservices.gov.za
SUMMARY:Media Accreditation Test
DESCRIPTION:
URL:https://admwebdev.eservices.gov.za/v2/event/media-accreditation-test/
CATEGORIES:FT,ST
END:VEVENT
BEGIN:VEVENT
DTSTART;VALUE=DATE:20250827
DTEND;VALUE=DATE:20250901
DTSTAMP:20260421T171315
CREATED:20250820T225117Z
LAST-MODIFIED:20250827T112145Z
UID:10000380-1756252800-1756684799@admwebdev.eservices.gov.za
SUMMARY:G20 Leaders' Summit
DESCRIPTION:
URL:https://admwebdev.eservices.gov.za/v2/event/g20-leaders-summit-2/
LOCATION:Sandton Convention Centre\, Gauteng\, Sandton\, Johannesburg\, Gauteng\, 2000\, South Africa
CATEGORIES:FT,Media
END:VEVENT
BEGIN:VEVENT
DTSTART;VALUE=DATE:20250714
DTEND;VALUE=DATE:20250719
DTSTAMP:20260421T171315
CREATED:20241114T150612Z
LAST-MODIFIED:20250620T140049Z
UID:10000154-1752451200-1752883199@admwebdev.eservices.gov.za
SUMMARY:Fourth G20 Finance and Central Bank Deputies and Finance Ministers and Central Bank Governors’ Meetings
DESCRIPTION:
URL:https://admwebdev.eservices.gov.za/v2/event/fourth-finance-central-bank-deputies-meeting/
LOCATION:The Capital Hotel\, Zimbali\, KwaZulu-Natal
CATEGORIES:FT
END:VEVENT
BEGIN:VEVENT
DTSTART;TZID=Africa/Johannesburg:20250707T080000
DTEND;TZID=Africa/Johannesburg:20250708T170000
DTSTAMP:20260421T171315
CREATED:20241121T183207Z
LAST-MODIFIED:20250411T211929Z
UID:10000205-1751875200-1751994000@admwebdev.eservices.gov.za
SUMMARY:Second Deputies virtual drafting session
DESCRIPTION:
URL:https://admwebdev.eservices.gov.za/v2/event/second-deputies-virtual-drafting-session/
LOCATION:Video Teleconference
CATEGORIES:FT
END:VEVENT
BEGIN:VEVENT
DTSTART;VALUE=DATE:20250624
DTEND;VALUE=DATE:20250626
DTSTAMP:20260421T171315
CREATED:20241202T232042Z
LAST-MODIFIED:20250423T084427Z
UID:10000264-1750723200-1750895999@admwebdev.eservices.gov.za
SUMMARY:Third Framework Working Group Meeting
DESCRIPTION:
URL:https://admwebdev.eservices.gov.za/v2/event/third-framework-working-group-meeting/
LOCATION:Skukuza\, Kruger National Park\, Mpumalanga
CATEGORIES:FT
END:VEVENT
BEGIN:VEVENT
DTSTART;VALUE=DATE:20250618
DTEND;VALUE=DATE:20250620
DTSTAMP:20260421T171315
CREATED:20250605T170020Z
LAST-MODIFIED:20250605T170020Z
UID:10000375-1750204800-1750377599@admwebdev.eservices.gov.za
SUMMARY:Third Task Force 1 Meeting: Inclusive Economic Growth\, Industrialisation\, Employment\, and Reduce Inequality
DESCRIPTION:
URL:https://admwebdev.eservices.gov.za/v2/event/third-task-force-1-meeting-inclusive-economic-growth-industrialisation-employment-and-reduce-inequality/
LOCATION:Video Teleconference
CATEGORIES:FT,ST
END:VEVENT
BEGIN:VEVENT
DTSTART;VALUE=DATE:20250612
DTEND;VALUE=DATE:20250614
DTSTAMP:20260421T171315
CREATED:20241121T182115Z
LAST-MODIFIED:20250423T102514Z
UID:10000201-1749686400-1749859199@admwebdev.eservices.gov.za
SUMMARY:Third Sustainable Finance Working Group Meeting
DESCRIPTION:
URL:https://admwebdev.eservices.gov.za/v2/event/third-sustainable-finance-wg-meeting/
LOCATION:CTICC\, Cape Town\, Western Cape
CATEGORIES:FT
END:VEVENT
BEGIN:VEVENT
DTSTART;TZID=Africa/Johannesburg:20250609T000000
DTEND;TZID=Africa/Johannesburg:20250610T000000
DTSTAMP:20260421T171315
CREATED:20240912T091253Z
LAST-MODIFIED:20250423T083730Z
UID:10000077-1749427200-1749513600@admwebdev.eservices.gov.za
SUMMARY:Third International Financial Architecture Working Group Meeting
DESCRIPTION:
URL:https://admwebdev.eservices.gov.za/v2/event/3rd-international-financial-architecture-wg-meeting/
LOCATION:Radisson Hotel\, Hoedspruit\, Limpopo
CATEGORIES:FT
END:VEVENT
BEGIN:VEVENT
DTSTART;VALUE=DATE:20250530
DTEND;VALUE=DATE:20250531
DTSTAMP:20260421T171315
CREATED:20241202T225636Z
LAST-MODIFIED:20250515T101434Z
UID:10000256-1748563200-1748649599@admwebdev.eservices.gov.za
SUMMARY:Second Joint Finance and Health Task Force Meeting
DESCRIPTION:
URL:https://admwebdev.eservices.gov.za/v2/event/joint-second-finance-and-health-task-force-meeting/
LOCATION:Video Teleconference
CATEGORIES:FT
END:VEVENT
BEGIN:VEVENT
DTSTART;VALUE=DATE:20250522
DTEND;VALUE=DATE:20250524
DTSTAMP:20260421T171315
CREATED:20241202T225850Z
LAST-MODIFIED:20250423T083334Z
UID:10000257-1747872000-1748044799@admwebdev.eservices.gov.za
SUMMARY:Third Infrastructure Working Group Meeting
DESCRIPTION:
URL:https://admwebdev.eservices.gov.za/v2/event/third-infrastructure-working-group-meeting/
LOCATION:Skukuza\, Kruger National Park\, Mpumalanga
CATEGORIES:FT
END:VEVENT
BEGIN:VEVENT
DTSTART;VALUE=DATE:20250519
DTEND;VALUE=DATE:20250521
DTSTAMP:20260421T171315
CREATED:20250423T102208Z
LAST-MODIFIED:20250423T102208Z
UID:10000353-1747612800-1747785599@admwebdev.eservices.gov.za
SUMMARY:Second Joint Sustainable and Framework Working Group Meeting
DESCRIPTION:
URL:https://admwebdev.eservices.gov.za/v2/event/second-joint-sustainable-and-framework-working-group-meeting/
LOCATION:Video Teleconference
CATEGORIES:FT
END:VEVENT
BEGIN:VEVENT
DTSTART;VALUE=DATE:20250519
DTEND;VALUE=DATE:20250521
DTSTAMP:20260421T171315
CREATED:20241202T225024Z
LAST-MODIFIED:20250423T083215Z
UID:10000253-1747612800-1747785599@admwebdev.eservices.gov.za
SUMMARY:Second Global Partnership for Financial Inclusion Meeting
DESCRIPTION:
URL:https://admwebdev.eservices.gov.za/v2/event/third-global-partnership-for-financial-inclusion-meeting-2/
LOCATION:Skukuza\, Kruger National Park\, Mpumalanga
CATEGORIES:FT
END:VEVENT
BEGIN:VEVENT
DTSTART;VALUE=DATE:20250514
DTEND;VALUE=DATE:20250516
DTSTAMP:20260421T171315
CREATED:20250411T201426Z
LAST-MODIFIED:20250423T082942Z
UID:10000346-1747180800-1747353599@admwebdev.eservices.gov.za
SUMMARY:Second Task Force 1 Meeting: Inclusive Economic Growth\, Industrialisation\, Employment\, and Reduced Inequality
DESCRIPTION:
URL:https://admwebdev.eservices.gov.za/v2/event/second-task-force-1-meeting-inclusive-economic-growth-industrialisation-employment-and-reduce-inequality/
LOCATION:Video Teleconference
CATEGORIES:FT,ST
END:VEVENT
BEGIN:VEVENT
DTSTART;VALUE=DATE:20250423
DTEND;VALUE=DATE:20250425
DTSTAMP:20260421T171315
CREATED:20241114T074909Z
LAST-MODIFIED:20250411T192622Z
UID:10000141-1745366400-1745539199@admwebdev.eservices.gov.za
SUMMARY:Second Finance and Central Bank Ministers Meeting
DESCRIPTION:
URL:https://admwebdev.eservices.gov.za/v2/event/second-finance-and-central-bank-ministerial-meeting/
LOCATION:Washington DC\, USA
CATEGORIES:FT
END:VEVENT
BEGIN:VEVENT
DTSTART;VALUE=DATE:20250410
DTEND;VALUE=DATE:20250412
DTSTAMP:20260421T171315
CREATED:20241202T222650Z
LAST-MODIFIED:20250411T183630Z
UID:10000247-1744243200-1744415999@admwebdev.eservices.gov.za
SUMMARY:Third Finance and Central Bank Deputies Meeting
DESCRIPTION:
URL:https://admwebdev.eservices.gov.za/v2/event/third-finance-and-central-bank-deputies-meeting/
LOCATION:Video Teleconference
CATEGORIES:FT
END:VEVENT
BEGIN:VEVENT
DTSTART;TZID=Africa/Johannesburg:20250403T080000
DTEND;TZID=Africa/Johannesburg:20250404T170000
DTSTAMP:20260421T171315
CREATED:20241120T150728Z
LAST-MODIFIED:20250121T154456Z
UID:10000186-1743667200-1743786000@admwebdev.eservices.gov.za
SUMMARY:Second Framework Working Group Meeting
DESCRIPTION:
URL:https://admwebdev.eservices.gov.za/v2/event/second-framework-wg-meeting/
LOCATION:Hazendal Wine Estate\, Western Cape
CATEGORIES:FT
END:VEVENT
BEGIN:VEVENT
DTSTART;TZID=Africa/Johannesburg:20250324T000000
DTEND;TZID=Africa/Johannesburg:20250325T235900
DTSTAMP:20260421T171315
CREATED:20241120T135311Z
LAST-MODIFIED:20250411T181314Z
UID:10000184-1742774400-1742947140@admwebdev.eservices.gov.za
SUMMARY:Second Sustainable Finance Working Group Meeting
DESCRIPTION:
URL:https://admwebdev.eservices.gov.za/v2/event/second-sustainable-finance-wg-meeting/
LOCATION:Fan Court George\, Western Cape
CATEGORIES:FT
END:VEVENT
BEGIN:VEVENT
DTSTART;VALUE=DATE:20250324
DTEND;VALUE=DATE:20250326
DTSTAMP:20260421T171315
CREATED:20241120T134658Z
LAST-MODIFIED:20250121T153405Z
UID:10000183-1742774400-1742947199@admwebdev.eservices.gov.za
SUMMARY:First Second Global Partnership for Financial Inclusion Meeting
DESCRIPTION:
URL:https://admwebdev.eservices.gov.za/v2/event/first-global-partnership-for-financial-inclusion-meeting/
LOCATION:Pretoria Gauteng
CATEGORIES:FT
END:VEVENT
BEGIN:VEVENT
DTSTART;TZID=Africa/Johannesburg:20250320T080000
DTEND;TZID=Africa/Johannesburg:20250321T170000
DTSTAMP:20260421T171315
CREATED:20241120T132304Z
LAST-MODIFIED:20250121T152340Z
UID:10000180-1742457600-1742576400@admwebdev.eservices.gov.za
SUMMARY:Second Infrastructure Working Group Meeting
DESCRIPTION:
URL:https://admwebdev.eservices.gov.za/v2/event/second-infrastructure-wg-meeting/
LOCATION:Pretoria Gauteng
CATEGORIES:FT
END:VEVENT
BEGIN:VEVENT
DTSTART;VALUE=DATE:20250317
DTEND;VALUE=DATE:20250319
DTSTAMP:20260421T171315
CREATED:20241202T220355Z
LAST-MODIFIED:20250121T152835Z
UID:10000243-1742169600-1742342399@admwebdev.eservices.gov.za
SUMMARY:Second International Financial Architecture Working Group Meeting
DESCRIPTION:
URL:https://admwebdev.eservices.gov.za/v2/event/second-international-financial-architecture-working-group-meeting/
LOCATION:Pretoria Gauteng
CATEGORIES:FT
END:VEVENT
BEGIN:VEVENT
DTSTART;VALUE=DATE:20250317
DTEND;VALUE=DATE:20250318
DTSTAMP:20260421T171315
CREATED:20250224T150236Z
LAST-MODIFIED:20250411T184436Z
UID:10000319-1742169600-1742255999@admwebdev.eservices.gov.za
SUMMARY:First Task Force 1 Meeting: Inclusive Economic Growth\, Industrialisation\, Employment\, and Reduce Inequality
DESCRIPTION:
URL:https://admwebdev.eservices.gov.za/v2/event/first-task-force-meeting-inclusive-economic-growth-industrialisation-employment-and-reduce-inequality-3/
LOCATION:Video Teleconference
CATEGORIES:FT,ST
END:VEVENT
BEGIN:VEVENT
DTSTART;VALUE=DATE:20250224
DTEND;VALUE=DATE:20250226
DTSTAMP:20260421T171315
CREATED:20240912T090800Z
LAST-MODIFIED:20250311T134809Z
UID:10000036-1740355200-1740527999@admwebdev.eservices.gov.za
SUMMARY:Second Finance and Central Bank Deputies Meeting
DESCRIPTION:
URL:https://admwebdev.eservices.gov.za/v2/event/2nd-finance-and-central-bank-deputies-meeting/
LOCATION:CTICC\, Cape Town\, Western Cape
CATEGORIES:FT
END:VEVENT
BEGIN:VEVENT
DTSTART;TZID=Africa/Johannesburg:20250220T080000
DTEND;TZID=Africa/Johannesburg:20250221T170000
DTSTAMP:20260421T171315
CREATED:20241120T091006Z
LAST-MODIFIED:20250411T211043Z
UID:10000174-1740038400-1740157200@admwebdev.eservices.gov.za
SUMMARY:First Deputies Virtual Communique Drafting Session
DESCRIPTION:
URL:https://admwebdev.eservices.gov.za/v2/event/first-deputies-virtual-communique-drafting-session/
LOCATION:Video Teleconference
CATEGORIES:FT
END:VEVENT
BEGIN:VEVENT
DTSTART;VALUE=DATE:20250123
DTEND;VALUE=DATE:20250125
DTSTAMP:20260421T171315
CREATED:20240912T090730Z
LAST-MODIFIED:20250411T210505Z
UID:10000025-1737590400-1737763199@admwebdev.eservices.gov.za
SUMMARY:First Infrastructure Working Group Meeting
DESCRIPTION:
URL:https://admwebdev.eservices.gov.za/v2/event/1st-infrastructure-wg-meeting/
LOCATION:Video Teleconference
CATEGORIES:FT
END:VEVENT
BEGIN:VEVENT
DTSTART;VALUE=DATE:20250122
DTEND;VALUE=DATE:20250123
DTSTAMP:20260421T171315
CREATED:20241119T191205Z
LAST-MODIFIED:20250411T210403Z
UID:10000171-1737504000-1737590399@admwebdev.eservices.gov.za
SUMMARY:First Joint Finance and Health Task Force Meeting
DESCRIPTION:
URL:https://admwebdev.eservices.gov.za/v2/event/first-joint-finance-and-health-tf-meeting/
LOCATION:Video Teleconference
CATEGORIES:FT
END:VEVENT
BEGIN:VEVENT
DTSTART;VALUE=DATE:20250120
DTEND;VALUE=DATE:20250122
DTSTAMP:20260421T171315
CREATED:20240912T090715Z
LAST-MODIFIED:20250411T210202Z
UID:10000020-1737331200-1737503999@admwebdev.eservices.gov.za
SUMMARY:First International Financial Architecture Working Group Meeting
DESCRIPTION:
URL:https://admwebdev.eservices.gov.za/v2/event/1st-international-financial-architecture-wg-meeting/
LOCATION:Video Teleconference
CATEGORIES:FT
END:VEVENT
BEGIN:VEVENT
DTSTART;VALUE=DATE:20250116
DTEND;VALUE=DATE:20250118
DTSTAMP:20260421T171315
CREATED:20240912T090731Z
LAST-MODIFIED:20250411T205938Z
UID:10000026-1736985600-1737158399@admwebdev.eservices.gov.za
SUMMARY:First Sustainable Finance Working Group Meeting
DESCRIPTION:
URL:https://admwebdev.eservices.gov.za/v2/event/1st-sustainable-finance-wg-meeting/
LOCATION:Video Teleconference
CATEGORIES:FT
END:VEVENT
BEGIN:VEVENT
DTSTART;VALUE=DATE:20250113
DTEND;VALUE=DATE:20250115
DTSTAMP:20260421T171315
CREATED:20240912T090715Z
LAST-MODIFIED:20250411T205824Z
UID:10000018-1736726400-1736899199@admwebdev.eservices.gov.za
SUMMARY:First Framework Working Group Meeting
DESCRIPTION:
URL:https://admwebdev.eservices.gov.za/v2/event/1st-framework-wg-meeting/
LOCATION:Video Teleconference
CATEGORIES:FT
END:VEVENT
END:VCALENDAR